BEGIN:VCALENDAR
VERSION:2.0
PRODID:-//St Botolph&#039;s CofE Primary School - ECPv6.15.20//NONSGML v1.0//EN
CALSCALE:GREGORIAN
METHOD:PUBLISH
X-WR-CALNAME:St Botolph&#039;s CofE Primary School
X-ORIGINAL-URL:https://www.st-botolphs.kent.sch.uk
X-WR-CALDESC:Events for St Botolph&#039;s CofE Primary School
REFRESH-INTERVAL;VALUE=DURATION:PT1H
X-Robots-Tag:noindex
X-PUBLISHED-TTL:PT1H
BEGIN:VTIMEZONE
TZID:Europe/London
BEGIN:DAYLIGHT
TZOFFSETFROM:+0000
TZOFFSETTO:+0100
TZNAME:BST
DTSTART:20240331T010000
END:DAYLIGHT
BEGIN:STANDARD
TZOFFSETFROM:+0100
TZOFFSETTO:+0000
TZNAME:GMT
DTSTART:20241027T010000
END:STANDARD
BEGIN:DAYLIGHT
TZOFFSETFROM:+0000
TZOFFSETTO:+0100
TZNAME:BST
DTSTART:20250330T010000
END:DAYLIGHT
BEGIN:STANDARD
TZOFFSETFROM:+0100
TZOFFSETTO:+0000
TZNAME:GMT
DTSTART:20251026T010000
END:STANDARD
BEGIN:DAYLIGHT
TZOFFSETFROM:+0000
TZOFFSETTO:+0100
TZNAME:BST
DTSTART:20260329T010000
END:DAYLIGHT
BEGIN:STANDARD
TZOFFSETFROM:+0100
TZOFFSETTO:+0000
TZNAME:GMT
DTSTART:20261025T010000
END:STANDARD
END:VTIMEZONE
BEGIN:VEVENT
DTSTART;TZID=Europe/London:20250909T143000
DTEND;TZID=Europe/London:20250909T153000
DTSTAMP:20260424T071105
CREATED:20250730T114655Z
LAST-MODIFIED:20250730T115009Z
UID:18884-1757428200-1757431800@www.st-botolphs.kent.sch.uk
SUMMARY:Year 5 Meet the Teacher
DESCRIPTION:
URL:https://www.st-botolphs.kent.sch.uk/event/year-5-meet-the-teacher/
END:VEVENT
END:VCALENDAR