BEGIN:VCALENDAR
VERSION:2.0
PRODID:-//St Botolph&#039;s CofE Primary School - ECPv6.15.20//NONSGML v1.0//EN
CALSCALE:GREGORIAN
METHOD:PUBLISH
X-ORIGINAL-URL:https://www.st-botolphs.kent.sch.uk
X-WR-CALDESC:Events for St Botolph&#039;s CofE Primary School
REFRESH-INTERVAL;VALUE=DURATION:PT1H
X-Robots-Tag:noindex
X-PUBLISHED-TTL:PT1H
BEGIN:VTIMEZONE
TZID:Europe/London
BEGIN:DAYLIGHT
TZOFFSETFROM:+0000
TZOFFSETTO:+0100
TZNAME:BST
DTSTART:20240331T010000
END:DAYLIGHT
BEGIN:STANDARD
TZOFFSETFROM:+0100
TZOFFSETTO:+0000
TZNAME:GMT
DTSTART:20241027T010000
END:STANDARD
BEGIN:DAYLIGHT
TZOFFSETFROM:+0000
TZOFFSETTO:+0100
TZNAME:BST
DTSTART:20250330T010000
END:DAYLIGHT
BEGIN:STANDARD
TZOFFSETFROM:+0100
TZOFFSETTO:+0000
TZNAME:GMT
DTSTART:20251026T010000
END:STANDARD
BEGIN:DAYLIGHT
TZOFFSETFROM:+0000
TZOFFSETTO:+0100
TZNAME:BST
DTSTART:20260329T010000
END:DAYLIGHT
BEGIN:STANDARD
TZOFFSETFROM:+0100
TZOFFSETTO:+0000
TZNAME:GMT
DTSTART:20261025T010000
END:STANDARD
END:VTIMEZONE
BEGIN:VEVENT
DTSTART;TZID=Europe/London:20251001T000000
DTEND;TZID=Europe/London:20251031T000000
DTSTAMP:20260424T112137
CREATED:20250925T074752Z
LAST-MODIFIED:20250926T075105Z
UID:19081-1759276800-1761868800@www.st-botolphs.kent.sch.uk
SUMMARY:Women in History Month
DESCRIPTION:
URL:https://www.st-botolphs.kent.sch.uk/event/women-in-history-month/
END:VEVENT
BEGIN:VEVENT
DTSTART;VALUE=DATE:20251028
DTEND;VALUE=DATE:20251029
DTSTAMP:20260424T112137
CREATED:20240905T135617Z
LAST-MODIFIED:20240905T135617Z
UID:16916-1761609600-1761695999@www.st-botolphs.kent.sch.uk
SUMMARY:Term 2 Begins
DESCRIPTION:
URL:https://www.st-botolphs.kent.sch.uk/event/term-2-begins-2/
CATEGORIES:Term Dates
END:VEVENT
BEGIN:VEVENT
DTSTART;VALUE=DATE:20251028
DTEND;VALUE=DATE:20251029
DTSTAMP:20260424T112137
CREATED:20250714T120741Z
LAST-MODIFIED:20250714T120741Z
UID:18826-1761609600-1761695999@www.st-botolphs.kent.sch.uk
SUMMARY:Y6 Visit to Imperial War Museum
DESCRIPTION:
URL:https://www.st-botolphs.kent.sch.uk/event/y6-visit-to-imperial-war-museum/
END:VEVENT
END:VCALENDAR