BEGIN:VCALENDAR
VERSION:2.0
PRODID:-//St Botolph&#039;s CofE Primary School - ECPv6.15.20//NONSGML v1.0//EN
CALSCALE:GREGORIAN
METHOD:PUBLISH
X-WR-CALNAME:St Botolph&#039;s CofE Primary School
X-ORIGINAL-URL:https://www.st-botolphs.kent.sch.uk
X-WR-CALDESC:Events for St Botolph&#039;s CofE Primary School
REFRESH-INTERVAL;VALUE=DURATION:PT1H
X-Robots-Tag:noindex
X-PUBLISHED-TTL:PT1H
BEGIN:VTIMEZONE
TZID:Europe/London
BEGIN:DAYLIGHT
TZOFFSETFROM:+0000
TZOFFSETTO:+0100
TZNAME:BST
DTSTART:20240331T010000
END:DAYLIGHT
BEGIN:STANDARD
TZOFFSETFROM:+0100
TZOFFSETTO:+0000
TZNAME:GMT
DTSTART:20241027T010000
END:STANDARD
BEGIN:DAYLIGHT
TZOFFSETFROM:+0000
TZOFFSETTO:+0100
TZNAME:BST
DTSTART:20250330T010000
END:DAYLIGHT
BEGIN:STANDARD
TZOFFSETFROM:+0100
TZOFFSETTO:+0000
TZNAME:GMT
DTSTART:20251026T010000
END:STANDARD
BEGIN:DAYLIGHT
TZOFFSETFROM:+0000
TZOFFSETTO:+0100
TZNAME:BST
DTSTART:20260329T010000
END:DAYLIGHT
BEGIN:STANDARD
TZOFFSETFROM:+0100
TZOFFSETTO:+0000
TZNAME:GMT
DTSTART:20261025T010000
END:STANDARD
END:VTIMEZONE
BEGIN:VEVENT
DTSTART;TZID=Europe/London:20251201T000000
DTEND;TZID=Europe/London:20251205T000000
DTSTAMP:20260424T155914
CREATED:20250925T074952Z
LAST-MODIFIED:20250926T120109Z
UID:19123-1764547200-1764892800@www.st-botolphs.kent.sch.uk
SUMMARY:Y5 Charity Week
DESCRIPTION:
URL:https://www.st-botolphs.kent.sch.uk/event/y5-charity-week/
END:VEVENT
BEGIN:VEVENT
DTSTART;TZID=Europe/London:20251201T141500
DTEND;TZID=Europe/London:20251201T150000
DTSTAMP:20260424T155914
CREATED:20250925T074952Z
LAST-MODIFIED:20250926T120736Z
UID:19124-1764598500-1764601200@www.st-botolphs.kent.sch.uk
SUMMARY:YR and Y1 Maths Parent Workshop
DESCRIPTION:
URL:https://www.st-botolphs.kent.sch.uk/event/2-15-yr-and-y1-maths-parent-workshop/
END:VEVENT
END:VCALENDAR