BEGIN:VCALENDAR
VERSION:2.0
PRODID:-//St Botolph&#039;s CofE Primary School - ECPv6.15.20//NONSGML v1.0//EN
CALSCALE:GREGORIAN
METHOD:PUBLISH
X-WR-CALNAME:St Botolph&#039;s CofE Primary School
X-ORIGINAL-URL:https://www.st-botolphs.kent.sch.uk
X-WR-CALDESC:Events for St Botolph&#039;s CofE Primary School
REFRESH-INTERVAL;VALUE=DURATION:PT1H
X-Robots-Tag:noindex
X-PUBLISHED-TTL:PT1H
BEGIN:VTIMEZONE
TZID:Europe/London
BEGIN:DAYLIGHT
TZOFFSETFROM:+0000
TZOFFSETTO:+0100
TZNAME:BST
DTSTART:20240331T010000
END:DAYLIGHT
BEGIN:STANDARD
TZOFFSETFROM:+0100
TZOFFSETTO:+0000
TZNAME:GMT
DTSTART:20241027T010000
END:STANDARD
BEGIN:DAYLIGHT
TZOFFSETFROM:+0000
TZOFFSETTO:+0100
TZNAME:BST
DTSTART:20250330T010000
END:DAYLIGHT
BEGIN:STANDARD
TZOFFSETFROM:+0100
TZOFFSETTO:+0000
TZNAME:GMT
DTSTART:20251026T010000
END:STANDARD
BEGIN:DAYLIGHT
TZOFFSETFROM:+0000
TZOFFSETTO:+0100
TZNAME:BST
DTSTART:20260329T010000
END:DAYLIGHT
BEGIN:STANDARD
TZOFFSETFROM:+0100
TZOFFSETTO:+0000
TZNAME:GMT
DTSTART:20261025T010000
END:STANDARD
END:VTIMEZONE
BEGIN:VEVENT
DTSTART;TZID=Europe/London:20251205T090000
DTEND;TZID=Europe/London:20251205T100000
DTSTAMP:20260424T124944
CREATED:20250925T074952Z
LAST-MODIFIED:20250926T121003Z
UID:19125-1764925200-1764928800@www.st-botolphs.kent.sch.uk
SUMMARY:Eucharist - Y5E
DESCRIPTION:
URL:https://www.st-botolphs.kent.sch.uk/event/9-00-eucharist-y5e/
END:VEVENT
BEGIN:VEVENT
DTSTART;TZID=Europe/London:20251205T140000
DTEND;TZID=Europe/London:20251205T150000
DTSTAMP:20260424T124944
CREATED:20250925T075007Z
LAST-MODIFIED:20250926T121309Z
UID:19126-1764943200-1764946800@www.st-botolphs.kent.sch.uk
SUMMARY:Year 2 Christmas Performance
DESCRIPTION:
URL:https://www.st-botolphs.kent.sch.uk/event/2-00-year-2-christmas-performance/
END:VEVENT
END:VCALENDAR