BEGIN:VCALENDAR
VERSION:2.0
PRODID:-//St Botolph&#039;s CofE Primary School - ECPv6.15.20//NONSGML v1.0//EN
CALSCALE:GREGORIAN
METHOD:PUBLISH
X-ORIGINAL-URL:https://www.st-botolphs.kent.sch.uk
X-WR-CALDESC:Events for St Botolph&#039;s CofE Primary School
REFRESH-INTERVAL;VALUE=DURATION:PT1H
X-Robots-Tag:noindex
X-PUBLISHED-TTL:PT1H
BEGIN:VTIMEZONE
TZID:Europe/London
BEGIN:DAYLIGHT
TZOFFSETFROM:+0000
TZOFFSETTO:+0100
TZNAME:BST
DTSTART:20230326T010000
END:DAYLIGHT
BEGIN:STANDARD
TZOFFSETFROM:+0100
TZOFFSETTO:+0000
TZNAME:GMT
DTSTART:20231029T010000
END:STANDARD
BEGIN:DAYLIGHT
TZOFFSETFROM:+0000
TZOFFSETTO:+0100
TZNAME:BST
DTSTART:20240331T010000
END:DAYLIGHT
BEGIN:STANDARD
TZOFFSETFROM:+0100
TZOFFSETTO:+0000
TZNAME:GMT
DTSTART:20241027T010000
END:STANDARD
BEGIN:DAYLIGHT
TZOFFSETFROM:+0000
TZOFFSETTO:+0100
TZNAME:BST
DTSTART:20250330T010000
END:DAYLIGHT
BEGIN:STANDARD
TZOFFSETFROM:+0100
TZOFFSETTO:+0000
TZNAME:GMT
DTSTART:20251026T010000
END:STANDARD
END:VTIMEZONE
BEGIN:VEVENT
DTSTART;TZID=Europe/London:20241220T090000
DTEND;TZID=Europe/London:20241220T103000
DTSTAMP:20260423T100448
CREATED:20241212T145054Z
LAST-MODIFIED:20241212T145054Z
UID:18051-1734685200-1734690600@www.st-botolphs.kent.sch.uk
SUMMARY:KS2 Carol Service at Church
DESCRIPTION:
URL:https://www.st-botolphs.kent.sch.uk/event/ks2-carol-service-at-church/
CATEGORIES:School
END:VEVENT
BEGIN:VEVENT
DTSTART;TZID=Europe/London:20241220T133000
DTEND;TZID=Europe/London:20241220T133000
DTSTAMP:20260423T100448
CREATED:20241212T145145Z
LAST-MODIFIED:20241212T145145Z
UID:18053-1734701400-1734701400@www.st-botolphs.kent.sch.uk
SUMMARY:End of Term 2
DESCRIPTION:
URL:https://www.st-botolphs.kent.sch.uk/event/end-of-term-2/
CATEGORIES:School
END:VEVENT
END:VCALENDAR