BEGIN:VCALENDAR
VERSION:2.0
PRODID:-//St Botolph&#039;s CofE Primary School - ECPv6.15.20//NONSGML v1.0//EN
CALSCALE:GREGORIAN
METHOD:PUBLISH
X-ORIGINAL-URL:https://www.st-botolphs.kent.sch.uk
X-WR-CALDESC:Events for St Botolph&#039;s CofE Primary School
REFRESH-INTERVAL;VALUE=DURATION:PT1H
X-Robots-Tag:noindex
X-PUBLISHED-TTL:PT1H
BEGIN:VTIMEZONE
TZID:Europe/London
BEGIN:DAYLIGHT
TZOFFSETFROM:+0000
TZOFFSETTO:+0100
TZNAME:BST
DTSTART:20240331T010000
END:DAYLIGHT
BEGIN:STANDARD
TZOFFSETFROM:+0100
TZOFFSETTO:+0000
TZNAME:GMT
DTSTART:20241027T010000
END:STANDARD
BEGIN:DAYLIGHT
TZOFFSETFROM:+0000
TZOFFSETTO:+0100
TZNAME:BST
DTSTART:20250330T010000
END:DAYLIGHT
BEGIN:STANDARD
TZOFFSETFROM:+0100
TZOFFSETTO:+0000
TZNAME:GMT
DTSTART:20251026T010000
END:STANDARD
BEGIN:DAYLIGHT
TZOFFSETFROM:+0000
TZOFFSETTO:+0100
TZNAME:BST
DTSTART:20260329T010000
END:DAYLIGHT
BEGIN:STANDARD
TZOFFSETFROM:+0100
TZOFFSETTO:+0000
TZNAME:GMT
DTSTART:20261025T010000
END:STANDARD
END:VTIMEZONE
BEGIN:VEVENT
DTSTART;TZID=Europe/London:20250307T090000
DTEND;TZID=Europe/London:20250307T100000
DTSTAMP:20260423T102106
CREATED:20241220T121642Z
LAST-MODIFIED:20241220T121657Z
UID:18166-1741338000-1741341600@www.st-botolphs.kent.sch.uk
SUMMARY:Eucharist - Y5C
DESCRIPTION:
URL:https://www.st-botolphs.kent.sch.uk/event/eucharist-y5c/
CATEGORIES:School
END:VEVENT
BEGIN:VEVENT
DTSTART;VALUE=DATE:20250313
DTEND;VALUE=DATE:20250314
DTSTAMP:20260423T102106
CREATED:20241220T121724Z
LAST-MODIFIED:20241220T121800Z
UID:18168-1741824000-1741910399@www.st-botolphs.kent.sch.uk
SUMMARY:Roots to Food
DESCRIPTION:
URL:https://www.st-botolphs.kent.sch.uk/event/roots-to-food/
CATEGORIES:School
END:VEVENT
BEGIN:VEVENT
DTSTART;VALUE=DATE:20250314
DTEND;VALUE=DATE:20250315
DTSTAMP:20260423T102106
CREATED:20241220T121836Z
LAST-MODIFIED:20241220T121836Z
UID:18170-1741910400-1741996799@www.st-botolphs.kent.sch.uk
SUMMARY:Trust Day (School Closed to Pupils)
DESCRIPTION:
URL:https://www.st-botolphs.kent.sch.uk/event/trust-day-school-closed-to-pupils/
CATEGORIES:School
END:VEVENT
BEGIN:VEVENT
DTSTART;TZID=Europe/London:20250321T090000
DTEND;TZID=Europe/London:20250321T100000
DTSTAMP:20260423T102106
CREATED:20241220T122032Z
LAST-MODIFIED:20241220T122032Z
UID:18172-1742547600-1742551200@www.st-botolphs.kent.sch.uk
SUMMARY:Eucharist - Y4J
DESCRIPTION:
URL:https://www.st-botolphs.kent.sch.uk/event/eucharist-y4j/
CATEGORIES:School
END:VEVENT
BEGIN:VEVENT
DTSTART;TZID=Europe/London:20250325T130000
DTEND;TZID=Europe/London:20250325T190000
DTSTAMP:20260423T102106
CREATED:20241220T122121Z
LAST-MODIFIED:20241220T122121Z
UID:18174-1742907600-1742929200@www.st-botolphs.kent.sch.uk
SUMMARY:Trust Music Concert
DESCRIPTION:
URL:https://www.st-botolphs.kent.sch.uk/event/trust-music-concert/
CATEGORIES:School
END:VEVENT
BEGIN:VEVENT
DTSTART;TZID=Europe/London:20250328T090000
DTEND;TZID=Europe/London:20250328T100000
DTSTAMP:20260423T102106
CREATED:20241220T122159Z
LAST-MODIFIED:20241220T122159Z
UID:18176-1743152400-1743156000@www.st-botolphs.kent.sch.uk
SUMMARY:Eucharist - Y3M
DESCRIPTION:
URL:https://www.st-botolphs.kent.sch.uk/event/eucharist-y3m/
CATEGORIES:School
END:VEVENT
BEGIN:VEVENT
DTSTART;VALUE=DATE:20250331
DTEND;VALUE=DATE:20250401
DTSTAMP:20260423T102106
CREATED:20241220T122251Z
LAST-MODIFIED:20241220T122251Z
UID:18178-1743379200-1743465599@www.st-botolphs.kent.sch.uk
SUMMARY:Eid Al-Fitr
DESCRIPTION:
URL:https://www.st-botolphs.kent.sch.uk/event/eid-al-fitr/
CATEGORIES:School
END:VEVENT
BEGIN:VEVENT
DTSTART;VALUE=DATE:20250403
DTEND;VALUE=DATE:20250404
DTSTAMP:20260423T102106
CREATED:20241220T122422Z
LAST-MODIFIED:20241220T122422Z
UID:18180-1743638400-1743724799@www.st-botolphs.kent.sch.uk
SUMMARY:Baisakhi / Vaisakhi
DESCRIPTION:
URL:https://www.st-botolphs.kent.sch.uk/event/baisakhi-vaisakhi/
CATEGORIES:School
END:VEVENT
BEGIN:VEVENT
DTSTART;TZID=Europe/London:20250404T093000
DTEND;TZID=Europe/London:20250404T110000
DTSTAMP:20260423T102106
CREATED:20241220T122528Z
LAST-MODIFIED:20241220T122528Z
UID:18182-1743759000-1743764400@www.st-botolphs.kent.sch.uk
SUMMARY:Passion Play at Church
DESCRIPTION:
URL:https://www.st-botolphs.kent.sch.uk/event/passion-play-at-church/
CATEGORIES:School
END:VEVENT
END:VCALENDAR