BEGIN:VCALENDAR
VERSION:2.0
PRODID:-//St Botolph&#039;s CofE Primary School - ECPv6.15.20//NONSGML v1.0//EN
CALSCALE:GREGORIAN
METHOD:PUBLISH
X-WR-CALNAME:St Botolph&#039;s CofE Primary School
X-ORIGINAL-URL:https://www.st-botolphs.kent.sch.uk
X-WR-CALDESC:Events for St Botolph&#039;s CofE Primary School
REFRESH-INTERVAL;VALUE=DURATION:PT1H
X-Robots-Tag:noindex
X-PUBLISHED-TTL:PT1H
BEGIN:VTIMEZONE
TZID:Europe/London
BEGIN:DAYLIGHT
TZOFFSETFROM:+0000
TZOFFSETTO:+0100
TZNAME:BST
DTSTART:20240331T010000
END:DAYLIGHT
BEGIN:STANDARD
TZOFFSETFROM:+0100
TZOFFSETTO:+0000
TZNAME:GMT
DTSTART:20241027T010000
END:STANDARD
BEGIN:DAYLIGHT
TZOFFSETFROM:+0000
TZOFFSETTO:+0100
TZNAME:BST
DTSTART:20250330T010000
END:DAYLIGHT
BEGIN:STANDARD
TZOFFSETFROM:+0100
TZOFFSETTO:+0000
TZNAME:GMT
DTSTART:20251026T010000
END:STANDARD
BEGIN:DAYLIGHT
TZOFFSETFROM:+0000
TZOFFSETTO:+0100
TZNAME:BST
DTSTART:20260329T010000
END:DAYLIGHT
BEGIN:STANDARD
TZOFFSETFROM:+0100
TZOFFSETTO:+0000
TZNAME:GMT
DTSTART:20261025T010000
END:STANDARD
END:VTIMEZONE
BEGIN:VEVENT
DTSTART;VALUE=DATE:20250106
DTEND;VALUE=DATE:20250107
DTSTAMP:20260423T052605
CREATED:20240523T081457Z
LAST-MODIFIED:20240523T081457Z
UID:16696-1736121600-1736207999@www.st-botolphs.kent.sch.uk
SUMMARY:Staff Development Day - School Closed to Pupils
DESCRIPTION:
URL:https://www.st-botolphs.kent.sch.uk/event/staff-development-day-school-closed-to-pupils-3/
CATEGORIES:Term Dates
END:VEVENT
BEGIN:VEVENT
DTSTART;VALUE=DATE:20250107
DTEND;VALUE=DATE:20250108
DTSTAMP:20260423T052605
CREATED:20240523T080644Z
LAST-MODIFIED:20240523T080644Z
UID:16672-1736208000-1736294399@www.st-botolphs.kent.sch.uk
SUMMARY:Term 3 Begins
DESCRIPTION:
URL:https://www.st-botolphs.kent.sch.uk/event/term-3-begins/
CATEGORIES:Term Dates
END:VEVENT
BEGIN:VEVENT
DTSTART;TZID=Europe/London:20250109T000000
DTEND;TZID=Europe/London:20250109T000000
DTSTAMP:20260423T052605
CREATED:20250925T074720Z
LAST-MODIFIED:20250925T074720Z
UID:19066-1736380800-1736380800@www.st-botolphs.kent.sch.uk
SUMMARY:Staff Training Day (School Closed to Pupils)
DESCRIPTION:
URL:https://www.st-botolphs.kent.sch.uk/event/staff-training-day-school-closed-to-pupils/
END:VEVENT
BEGIN:VEVENT
DTSTART;TZID=Europe/London:20250110T093000
DTEND;TZID=Europe/London:20250110T103000
DTSTAMP:20260423T052605
CREATED:20241220T114103Z
LAST-MODIFIED:20241220T114103Z
UID:18141-1736501400-1736505000@www.st-botolphs.kent.sch.uk
SUMMARY:Epiphany Service at Church
DESCRIPTION:
URL:https://www.st-botolphs.kent.sch.uk/event/epiphany-service-at-church-2/
CATEGORIES:School
END:VEVENT
BEGIN:VEVENT
DTSTART;TZID=Europe/London:20250112T141500
DTEND;TZID=Europe/London:20250112T150000
DTSTAMP:20260423T052605
CREATED:20250925T075037Z
LAST-MODIFIED:20250926T122923Z
UID:19139-1736691300-1736694000@www.st-botolphs.kent.sch.uk
SUMMARY:Years 2 and 3 Maths Parent Workshop
DESCRIPTION:
URL:https://www.st-botolphs.kent.sch.uk/event/2-15-years-2-and-3-maths-parent-workshop/
END:VEVENT
BEGIN:VEVENT
DTSTART;TZID=Europe/London:20250113T080000
DTEND;TZID=Europe/London:20250117T170000
DTSTAMP:20260423T052605
CREATED:20241220T114300Z
LAST-MODIFIED:20241220T114300Z
UID:18143-1736755200-1737133200@www.st-botolphs.kent.sch.uk
SUMMARY:World Religions Week
DESCRIPTION:
URL:https://www.st-botolphs.kent.sch.uk/event/world-religions-week/
CATEGORIES:School
END:VEVENT
BEGIN:VEVENT
DTSTART;TZID=Europe/London:20250117T090000
DTEND;TZID=Europe/London:20250117T100000
DTSTAMP:20260423T052605
CREATED:20241212T150034Z
LAST-MODIFIED:20241212T150034Z
UID:18062-1737104400-1737108000@www.st-botolphs.kent.sch.uk
SUMMARY:Eucharist Service at Church
DESCRIPTION:
URL:https://www.st-botolphs.kent.sch.uk/event/eucharist-service-at-church/
CATEGORIES:School
END:VEVENT
BEGIN:VEVENT
DTSTART;TZID=Europe/London:20250117T090000
DTEND;TZID=Europe/London:20250117T100000
DTSTAMP:20260423T052605
CREATED:20241220T114345Z
LAST-MODIFIED:20241220T114345Z
UID:18145-1737104400-1737108000@www.st-botolphs.kent.sch.uk
SUMMARY:Eucharist - Y4O
DESCRIPTION:
URL:https://www.st-botolphs.kent.sch.uk/event/eucharist-y4o/
CATEGORIES:School
END:VEVENT
BEGIN:VEVENT
DTSTART;TZID=Europe/London:20250124T090000
DTEND;TZID=Europe/London:20250124T100000
DTSTAMP:20260423T052605
CREATED:20241220T114549Z
LAST-MODIFIED:20241220T114616Z
UID:18147-1737709200-1737712800@www.st-botolphs.kent.sch.uk
SUMMARY:Eucharist - Y3H
DESCRIPTION:
URL:https://www.st-botolphs.kent.sch.uk/event/eucharist-y3h-2/
CATEGORIES:School
END:VEVENT
BEGIN:VEVENT
DTSTART;TZID=Europe/London:20250131T090000
DTEND;TZID=Europe/London:20250131T100000
DTSTAMP:20260423T052605
CREATED:20241212T150536Z
LAST-MODIFIED:20241212T150536Z
UID:18068-1738314000-1738317600@www.st-botolphs.kent.sch.uk
SUMMARY:Eucharist - Y2M
DESCRIPTION:
URL:https://www.st-botolphs.kent.sch.uk/event/eucharist-y2m/
CATEGORIES:School
END:VEVENT
END:VCALENDAR