BEGIN:VCALENDAR
VERSION:2.0
PRODID:-//St Botolph&#039;s CofE Primary School - ECPv6.15.20//NONSGML v1.0//EN
CALSCALE:GREGORIAN
METHOD:PUBLISH
X-WR-CALNAME:St Botolph&#039;s CofE Primary School
X-ORIGINAL-URL:https://www.st-botolphs.kent.sch.uk
X-WR-CALDESC:Events for St Botolph&#039;s CofE Primary School
REFRESH-INTERVAL;VALUE=DURATION:PT1H
X-Robots-Tag:noindex
X-PUBLISHED-TTL:PT1H
BEGIN:VTIMEZONE
TZID:Europe/London
BEGIN:DAYLIGHT
TZOFFSETFROM:+0000
TZOFFSETTO:+0100
TZNAME:BST
DTSTART:20240331T010000
END:DAYLIGHT
BEGIN:STANDARD
TZOFFSETFROM:+0100
TZOFFSETTO:+0000
TZNAME:GMT
DTSTART:20241027T010000
END:STANDARD
BEGIN:DAYLIGHT
TZOFFSETFROM:+0000
TZOFFSETTO:+0100
TZNAME:BST
DTSTART:20250330T010000
END:DAYLIGHT
BEGIN:STANDARD
TZOFFSETFROM:+0100
TZOFFSETTO:+0000
TZNAME:GMT
DTSTART:20251026T010000
END:STANDARD
BEGIN:DAYLIGHT
TZOFFSETFROM:+0000
TZOFFSETTO:+0100
TZNAME:BST
DTSTART:20260329T010000
END:DAYLIGHT
BEGIN:STANDARD
TZOFFSETFROM:+0100
TZOFFSETTO:+0000
TZNAME:GMT
DTSTART:20261025T010000
END:STANDARD
END:VTIMEZONE
BEGIN:VEVENT
DTSTART;VALUE=DATE:20250901
DTEND;VALUE=DATE:20250902
DTSTAMP:20260424T054725
CREATED:20240905T140110Z
LAST-MODIFIED:20240905T140110Z
UID:16923-1756684800-1756771199@www.st-botolphs.kent.sch.uk
SUMMARY:Staff Development Day - School Closed to Pupils
DESCRIPTION:
URL:https://www.st-botolphs.kent.sch.uk/event/staff-development-day-school-closed-to-pupils-7/
CATEGORIES:Term Dates
END:VEVENT
BEGIN:VEVENT
DTSTART;VALUE=DATE:20250902
DTEND;VALUE=DATE:20250903
DTSTAMP:20260424T054725
CREATED:20240905T135533Z
LAST-MODIFIED:20240905T135533Z
UID:16917-1756771200-1756857599@www.st-botolphs.kent.sch.uk
SUMMARY:Staff Development Day
DESCRIPTION:
URL:https://www.st-botolphs.kent.sch.uk/event/staff-development-day-4/
CATEGORIES:Term Dates
END:VEVENT
BEGIN:VEVENT
DTSTART;VALUE=DATE:20250903
DTEND;VALUE=DATE:20250904
DTSTAMP:20260424T054725
CREATED:20240905T135958Z
LAST-MODIFIED:20240905T135958Z
UID:16921-1756857600-1756943999@www.st-botolphs.kent.sch.uk
SUMMARY:Term 1 Begins
DESCRIPTION:
URL:https://www.st-botolphs.kent.sch.uk/event/term-1-begins-2/
CATEGORIES:Term Dates
END:VEVENT
BEGIN:VEVENT
DTSTART;TZID=Europe/London:20250903T080000
DTEND;TZID=Europe/London:20250903T170000
DTSTAMP:20260424T054725
CREATED:20240905T135446Z
LAST-MODIFIED:20240905T135446Z
UID:16926-1756886400-1756918800@www.st-botolphs.kent.sch.uk
SUMMARY:Start of Term 1
DESCRIPTION:
URL:https://www.st-botolphs.kent.sch.uk/event/start-of-term-1/
END:VEVENT
BEGIN:VEVENT
DTSTART;TZID=Europe/London:20250908T143000
DTEND;TZID=Europe/London:20250908T153000
DTSTAMP:20260424T054725
CREATED:20250730T114621Z
LAST-MODIFIED:20250730T114621Z
UID:18882-1757341800-1757345400@www.st-botolphs.kent.sch.uk
SUMMARY:Year 6 Meet the Teacher
DESCRIPTION:
URL:https://www.st-botolphs.kent.sch.uk/event/year-6-meet-the-teacher/
END:VEVENT
BEGIN:VEVENT
DTSTART;TZID=Europe/London:20250909T000000
DTEND;TZID=Europe/London:20250909T000000
DTSTAMP:20260424T054725
CREATED:20250925T074722Z
LAST-MODIFIED:20250925T074722Z
UID:19071-1757376000-1757376000@www.st-botolphs.kent.sch.uk
SUMMARY:2.30 Meet the Teacher - Y5
DESCRIPTION:
URL:https://www.st-botolphs.kent.sch.uk/event/2-30-meet-the-teacher-y5/
END:VEVENT
BEGIN:VEVENT
DTSTART;TZID=Europe/London:20250909T143000
DTEND;TZID=Europe/London:20250909T153000
DTSTAMP:20260424T054725
CREATED:20250730T114655Z
LAST-MODIFIED:20250730T115009Z
UID:18884-1757428200-1757431800@www.st-botolphs.kent.sch.uk
SUMMARY:Year 5 Meet the Teacher
DESCRIPTION:
URL:https://www.st-botolphs.kent.sch.uk/event/year-5-meet-the-teacher/
END:VEVENT
BEGIN:VEVENT
DTSTART;TZID=Europe/London:20250910T143000
DTEND;TZID=Europe/London:20250910T153000
DTSTAMP:20260424T054725
CREATED:20250730T114726Z
LAST-MODIFIED:20250730T114726Z
UID:18886-1757514600-1757518200@www.st-botolphs.kent.sch.uk
SUMMARY:Year 4 Meet the Teacher
DESCRIPTION:
URL:https://www.st-botolphs.kent.sch.uk/event/year-4-meet-the-teacher/
END:VEVENT
BEGIN:VEVENT
DTSTART;VALUE=DATE:20250911
DTEND;VALUE=DATE:20250912
DTSTAMP:20260424T054725
CREATED:20250714T120712Z
LAST-MODIFIED:20250714T120712Z
UID:18824-1757548800-1757635199@www.st-botolphs.kent.sch.uk
SUMMARY:Kent Test (11+)
DESCRIPTION:
URL:https://www.st-botolphs.kent.sch.uk/event/kent-test-11-2/
END:VEVENT
BEGIN:VEVENT
DTSTART;TZID=Europe/London:20250911T143000
DTEND;TZID=Europe/London:20250911T153000
DTSTAMP:20260424T054725
CREATED:20250730T114757Z
LAST-MODIFIED:20250730T114757Z
UID:18888-1757601000-1757604600@www.st-botolphs.kent.sch.uk
SUMMARY:Year 3 Meet the Teacher
DESCRIPTION:
URL:https://www.st-botolphs.kent.sch.uk/event/year-3-meet-the-teacher/
END:VEVENT
BEGIN:VEVENT
DTSTART;TZID=Europe/London:20250912T143000
DTEND;TZID=Europe/London:20250912T153000
DTSTAMP:20260424T054725
CREATED:20250730T114830Z
LAST-MODIFIED:20250730T114830Z
UID:18890-1757687400-1757691000@www.st-botolphs.kent.sch.uk
SUMMARY:Year 1/Year 2 Meet the Teacher
DESCRIPTION:
URL:https://www.st-botolphs.kent.sch.uk/event/year-1-year-2-meet-the-teacher/
END:VEVENT
BEGIN:VEVENT
DTSTART;VALUE=DATE:20250923
DTEND;VALUE=DATE:20250924
DTSTAMP:20260424T054725
CREATED:20250925T074737Z
LAST-MODIFIED:20250926T074800Z
UID:19078-1758585600-1758671999@www.st-botolphs.kent.sch.uk
SUMMARY:Rosh Hashanah (Jewish New Year)
DESCRIPTION:
URL:https://www.st-botolphs.kent.sch.uk/event/rosh-hashanah-jewish-new-year/
END:VEVENT
BEGIN:VEVENT
DTSTART;TZID=Europe/London:20250923T151500
DTEND;TZID=Europe/London:20250923T160000
DTSTAMP:20260424T054725
CREATED:20250925T074737Z
LAST-MODIFIED:20250926T074917Z
UID:19079-1758640500-1758643200@www.st-botolphs.kent.sch.uk
SUMMARY:PESE Meeting
DESCRIPTION:
URL:https://www.st-botolphs.kent.sch.uk/event/3-15-pese-mtg/
END:VEVENT
END:VCALENDAR